BEGIN:VCALENDAR
VERSION:2.0
PRODID:icalendar-ruby
CALSCALE:GREGORIAN
METHOD:PUBLISH
BEGIN:VEVENT
DTSTAMP:20260422T231045Z
UID:7-458243@elbethel.tithelysetup5.com
DTSTART:20260920T150000Z
DTEND:20260920T180000Z
CLASS:PUBLIC
CREATED:20260422T165224
DESCRIPTION:
LAST-MODIFIED:20260422T165224
LOCATION:21 W. Broad Street Palmyra\, NJ 08065
SUMMARY:Sunday Worship 
URL;VALUE=URI:https://www.elbethelcommunitycathedral.com/events/sunday-wors
 hip/2026-09-20
ATTACH;FILENAME=Sunday-Morning-Worship.png;FMTTYPE=image/png:https://dq5pwp
 g1q8ru0.cloudfront.net/2024/02/07/19/49/17/be2ba377-377b-4b47-ac01-bc0f93a
 6a9cc/Sunday-Morning-Worship.png
END:VEVENT
END:VCALENDAR
