BEGIN:VCALENDAR
VERSION:2.0
PRODID:icalendar-ruby
CALSCALE:GREGORIAN
METHOD:PUBLISH
BEGIN:VEVENT
DTSTAMP:20260422T225016Z
UID:17-458446@elbethel.tithelysetup5.com
DTSTART:20260923T220000Z
DTEND:20260923T230000Z
CLASS:PUBLIC
CREATED:20260422T165225
DESCRIPTION:The Promise – EBCC Reform &amp\; Restoration Drug and Alcohol
  Program was created out of a deep desire to see lives transformed by the 
 power of God’s Word and the love of Jesus Christ. In a world overwhelmed
  by addiction\, we offer something greater than a temporary fix—we offer
  a lasting foundation for freedom.
LAST-MODIFIED:20260422T165225
LOCATION:21 West Broad Street 
SUMMARY:The Promise Recovery Program
URL;VALUE=URI:https://www.elbethelcommunitycathedral.com/events/the-promise
 -recovery-program/2026-09-23
ATTACH;FILENAME=websiet-promise-graphic.jpg;FMTTYPE=image/jpeg:https://dq5p
 wpg1q8ru0.cloudfront.net/2025/09/01/17/54/27/d0693b8a-1d00-4522-8005-91324
 066e798/websiet-promise-graphic.jpg
END:VEVENT
END:VCALENDAR
