BEGIN:VCALENDAR
VERSION:2.0
PRODID:icalendar-ruby
CALSCALE:GREGORIAN
METHOD:PUBLISH
BEGIN:VEVENT
DTSTAMP:20260423T021133Z
UID:8-458785@elbethel.tithelysetup5.com
DTSTART:20260929T230000Z
DTEND:20260930T000000Z
CLASS:PUBLIC
CREATED:20260422T194424
DESCRIPTION:Dail-in Nunber: 530-399-4100\nPin: 2992113
LAST-MODIFIED:20260422T194424
LOCATION:Conference Line 
SUMMARY:Tuesday Night Prayer Line
URL;VALUE=URI:https://www.elbethelcommunitycathedral.com/events/tuesday-nig
 ht-prayer-line/2026-09-29
ATTACH;FILENAME=Prayer-line-slide-2023.png;FMTTYPE=image/png:https://dq5pwp
 g1q8ru0.cloudfront.net/2024/02/07/20/34/11/7c3196f1-7b91-4fa0-a416-d14953a
 e84ea/Prayer-line-slide-2023.png
END:VEVENT
END:VCALENDAR
